BEGIN:VCALENDAR
VERSION:2.0
PRODID:-//New Mexico MainStreet - ECPv6.15.20//NONSGML v1.0//EN
CALSCALE:GREGORIAN
METHOD:PUBLISH
X-ORIGINAL-URL:https://www.nmmainstreet.org
X-WR-CALDESC:Events for New Mexico MainStreet
REFRESH-INTERVAL;VALUE=DURATION:PT1H
X-Robots-Tag:noindex
X-PUBLISHED-TTL:PT1H
BEGIN:VTIMEZONE
TZID:America/Denver
BEGIN:DAYLIGHT
TZOFFSETFROM:-0700
TZOFFSETTO:-0600
TZNAME:MDT
DTSTART:20250309T090000
END:DAYLIGHT
BEGIN:STANDARD
TZOFFSETFROM:-0600
TZOFFSETTO:-0700
TZNAME:MST
DTSTART:20251102T080000
END:STANDARD
BEGIN:DAYLIGHT
TZOFFSETFROM:-0700
TZOFFSETTO:-0600
TZNAME:MDT
DTSTART:20260308T090000
END:DAYLIGHT
BEGIN:STANDARD
TZOFFSETFROM:-0600
TZOFFSETTO:-0700
TZNAME:MST
DTSTART:20261101T080000
END:STANDARD
BEGIN:DAYLIGHT
TZOFFSETFROM:-0700
TZOFFSETTO:-0600
TZNAME:MDT
DTSTART:20270314T090000
END:DAYLIGHT
BEGIN:STANDARD
TZOFFSETFROM:-0600
TZOFFSETTO:-0700
TZNAME:MST
DTSTART:20271107T080000
END:STANDARD
END:VTIMEZONE
BEGIN:VEVENT
DTSTART;TZID=America/Denver:20260422T100000
DTEND;TZID=America/Denver:20260422T110000
DTSTAMP:20260423T070200
CREATED:20260319T185920Z
LAST-MODIFIED:20260319T185920Z
UID:16367-1776852000-1776855600@www.nmmainstreet.org
SUMMARY:Small Business Webinar: The Ecommerce Tune-Up: Removing Friction from the Buying Process
DESCRIPTION:In this webinar\, Main Street America will shift focus from finding you online to buying from you online.
URL:https://www.nmmainstreet.org/event/small-business-webinar-the-ecommerce-tune-up-removing-friction-from-the-buying-process/
CATEGORIES:Webinar
ATTACH;FMTTYPE=image/png:https://www.nmmainstreet.org/WPBeta/wp-content/uploads/2026/03/Digital-Trainers-Workshop-3-11.png
END:VEVENT
BEGIN:VEVENT
DTSTART;TZID=America/Denver:20260421T120000
DTEND;TZID=America/Denver:20260421T130000
DTSTAMP:20260423T070200
CREATED:20260327T223951Z
LAST-MODIFIED:20260327T223952Z
UID:16381-1776772800-1776776400@www.nmmainstreet.org
SUMMARY:More Than a Sidewalk: How Great Places Encourage Walking Webinar
DESCRIPTION:We all know a great place when we find one — but what makes it great\, and how do we create more of them? Walkability isn’t just about infrastructure\, it’s about appeal. People walk when streets feel human-scaled\, inviting\, and alive with arts\, culture\, and community. This webinar\, jointly hosted by the Urban Land Institute and America Walks\, features Ethan Kent of PlacemakingX and placemaking expert Carol Coletta to explore the strategies that transform ordinary streets into dynamic places.
URL:https://www.nmmainstreet.org/event/more-than-a-sidewalk-how-great-places-encourage-walking-webinar/
CATEGORIES:Webinar
END:VEVENT
BEGIN:VEVENT
DTSTART;TZID=America/Denver:20260420T130000
DTEND;TZID=America/Denver:20260420T140000
DTSTAMP:20260423T070200
CREATED:20260410T160717Z
LAST-MODIFIED:20260410T160718Z
UID:16448-1776690000-1776693600@www.nmmainstreet.org
SUMMARY:Proven and Promising Interventions to Support Small Businesses: A Guide for Cities - Free Webinar
DESCRIPTION:Small businesses play a critical role in cities. They create jobs\, drive innovation\, and provide one of the few pathways for households to build wealth. But creating and growing a small business is challenging\, and small business owners face hurdles to survival and growth. City leaders can help small businesses thrive by deploying effective program and policy interventions.  \n\n\n\nJoin the Urban Institute and Bloomberg Associates for a discussion of a new guide that highlights emerging approaches to small business–focused economic development.
URL:https://www.nmmainstreet.org/event/proven-and-promising-interventions-to-support-small-businesses-a-guide-for-cities-free-webinar/
CATEGORIES:Webinar
END:VEVENT
BEGIN:VEVENT
DTSTART;TZID=America/Denver:20260418T000000
DTEND;TZID=America/Denver:20260419T235959
DTSTAMP:20260423T070200
CREATED:20260303T233952Z
LAST-MODIFIED:20260303T233953Z
UID:15938-1776470400-1776643199@www.nmmainstreet.org
SUMMARY:Route 66: Roads & Rails Festival - ABQ
DESCRIPTION:Wheels Museum presents: Route 66 – Roads & Rails Festival\, April 18-19\, 2026\, at the Albuquerque Rail Yards! All wheels welcome: cars\, trains\, bikes\, & more! Join us for this free event with live music\, family fun zones\, local food truck & vendors\, talks\, exhibits\, and community meetups. Explore the city with trolley\, bike\, and walking tours.
URL:https://www.nmmainstreet.org/event/route-66-roads-rails-festival-abq/
CATEGORIES:Route 66
ATTACH;FMTTYPE=image/jpeg:https://www.nmmainstreet.org/WPBeta/wp-content/uploads/2026/03/613176579_1463259815602392_1199333787800582435_n.jpg
END:VEVENT
BEGIN:VEVENT
DTSTART;TZID=America/Denver:20260417T000000
DTEND;TZID=America/Denver:20260418T235959
DTSTAMP:20260423T070200
CREATED:20260318T152945Z
LAST-MODIFIED:20260318T152945Z
UID:16297-1776384000-1776556799@www.nmmainstreet.org
SUMMARY:NMDVS Annual Veterans Conference - Las Cruces
DESCRIPTION:The New Mexico Department of Veterans’ Services (NMDVS) will host its annual 2026 Veterans’ Conference April 17–18 at Hotel Encanto de Las Cruces\, 705 S. Telshor Blvd.\, Las Cruces\, NM 88011. The event brings together Veterans\, families\, service providers\, and advocates from across the state for two days of collaboration\, information sharing\, and connection.
URL:https://www.nmmainstreet.org/event/nmdvs-annual-veterans-conference-las-cruces/
CATEGORIES:Local Events
END:VEVENT
BEGIN:VEVENT
DTSTART;TZID=America/Denver:20260413T000000
DTEND;TZID=America/Denver:20260415T235959
DTSTAMP:20260423T070200
CREATED:20250425T184049Z
LAST-MODIFIED:20260109T214703Z
UID:14401-1776038400-1776297599@www.nmmainstreet.org
SUMMARY:2026 Main Street Now Conference - Tulsa
DESCRIPTION:Save the date!
URL:https://www.nmmainstreet.org/event/2026-main-street-now-conference-tulsa/
CATEGORIES:National Conference
ATTACH;FMTTYPE=image/png:https://www.nmmainstreet.org/WPBeta/wp-content/uploads/2025/04/generate-transform.png
END:VEVENT
BEGIN:VEVENT
DTSTART;TZID=America/Denver:20260411T000000
DTEND;TZID=America/Denver:20260411T235959
DTSTAMP:20260423T070200
CREATED:20260226T203103Z
LAST-MODIFIED:20260407T200409Z
UID:15886-1775865600-1775951999@www.nmmainstreet.org
SUMMARY:NM CreativeCon Gallup El Morro Theater
DESCRIPTION:NM CreativeCon is a statewide celebration of New Mexico’s creative community\, taking place from March through June 2026.
URL:https://www.nmmainstreet.org/event/nm-creativecon-gallup-el-morro-theater/
CATEGORIES:Arts & Culture,Local Events
ATTACH;FMTTYPE=image/jpeg:https://www.nmmainstreet.org/WPBeta/wp-content/uploads/2026/02/658834414_17953429776114263_2742469924861741797_n.jpg
END:VEVENT
BEGIN:VEVENT
DTSTART;TZID=America/Denver:20260402T130000
DTEND;TZID=America/Denver:20260402T140000
DTSTAMP:20260423T070200
CREATED:20260319T180234Z
LAST-MODIFIED:20260319T180234Z
UID:16357-1775134800-1775138400@www.nmmainstreet.org
SUMMARY:Recognition as Protection: How to Begin a Nomination - Webinar
DESCRIPTION:Take the first step in preserving the places that matter to your comunidad. Learn what recognition means\, why it matters\, and how both formal and informal acknowledgment can serve as a foundation for protecting important sites. By the end\, you’ll have practical guidance to identify culturally significant landmarks and start a nomination with confidence.
URL:https://www.nmmainstreet.org/event/recognition-as-protection-how-to-begin-a-nomination-webinar/
CATEGORIES:Webinar
ATTACH;FMTTYPE=image/png:https://www.nmmainstreet.org/WPBeta/wp-content/uploads/2026/03/latinos-heritage.png
END:VEVENT
BEGIN:VEVENT
DTSTART;TZID=America/Denver:20260328T110000
DTEND;TZID=America/Denver:20260328T123000
DTSTAMP:20260423T070200
CREATED:20260303T232606Z
LAST-MODIFIED:20260304T215322Z
UID:15929-1774695600-1774701000@www.nmmainstreet.org
SUMMARY:Route 66 Centennial Speaker Series in ABQ\, March 28
DESCRIPTION:Monthly historical lecture series for Route 66 Centennial in 2026 in and near Albuquerque\, New Mexico\, USA. \n\n\n\nSponsored by Albuquerque Historical Society\, East Mountain Historical Society\, Historic Albuquerque\, Inc.\, Los Ranchos Historical Society. Support from City of Albuquerque\, City of Rio Rancho\, and Bernalillo County. \n\n\n\nAll events are free and open to the public. Lectures repeat throughout the locations. Follow this series on Facebook.
URL:https://www.nmmainstreet.org/event/route-66-centennial-speaker-series-north-fourth-street-albuquerques-original-route-66/
CATEGORIES:Route 66
ATTACH;FMTTYPE=image/png:https://www.nmmainstreet.org/WPBeta/wp-content/uploads/2026/03/RT66-Logo_CLR-1024x986-1.png
END:VEVENT
BEGIN:VEVENT
DTSTART;TZID=America/Denver:20260328T000000
DTEND;TZID=America/Denver:20260328T235959
DTSTAMP:20260423T070200
CREATED:20260226T202908Z
LAST-MODIFIED:20260305T204205Z
UID:15884-1774656000-1774742399@www.nmmainstreet.org
SUMMARY:NM CreativeCon Raton Shuler Theater
DESCRIPTION:NM CreativeCon is a statewide celebration of New Mexico’s creative community\, taking place from March through June 2026.
URL:https://www.nmmainstreet.org/event/nm-creativecon-raton-shuler-theater/
CATEGORIES:Arts & Culture,Local Events
ATTACH;FMTTYPE=image/png:https://www.nmmainstreet.org/WPBeta/wp-content/uploads/2026/02/Raton-V.2-2.png
END:VEVENT
BEGIN:VEVENT
DTSTART;TZID=America/Denver:20260326T110000
DTEND;TZID=America/Denver:20260326T120000
DTSTAMP:20260423T070200
CREATED:20260319T191230Z
LAST-MODIFIED:20260319T191230Z
UID:16373-1774522800-1774526400@www.nmmainstreet.org
SUMMARY:LGBTQIA+ Visibility in Main Streets - Webinar
DESCRIPTION:Join the APA LGBTQ & Planning Division for a panel conversation featuring practitioners from communities across the country who are advancing inclusive downtown initiatives through programming\, partnerships\, placemaking\, and storytelling.
URL:https://www.nmmainstreet.org/event/lgbtqia-visibility-in-main-streets-webinar/
CATEGORIES:Webinar
END:VEVENT
BEGIN:VEVENT
DTSTART;TZID=America/Denver:20260325T120000
DTEND;TZID=America/Denver:20260325T130000
DTSTAMP:20260423T070200
CREATED:20260227T184804Z
LAST-MODIFIED:20260227T184804Z
UID:15900-1774440000-1774443600@www.nmmainstreet.org
SUMMARY:From Fear to Connection: Learning How to Ask for a Gift
DESCRIPTION:In this free webinar\, Beth Raps will demystify the art of asking by sharing simple\, proven rules and tools that make donor conversations natural\, respectful\, and heartfelt.
URL:https://www.nmmainstreet.org/event/from-fear-to-connection-learning-how-to-ask-for-a-gift/
CATEGORIES:Webinar
END:VEVENT
BEGIN:VEVENT
DTSTART;TZID=America/Denver:20260325T103000
DTEND;TZID=America/Denver:20260325T113000
DTSTAMP:20260423T070200
CREATED:20260306T171523Z
LAST-MODIFIED:20260306T171524Z
UID:16019-1774434600-1774438200@www.nmmainstreet.org
SUMMARY:NMED Brownfields Program Presentation (Planning and Redevelopment)
DESCRIPTION:Learn about the NM Environment Department’s Brownfields Program\, related services and funding opportunities. Brownfields present issues but also present opportunities to reimagine properties for infrastructure needs and more\, if dealt with properly.
URL:https://www.nmmainstreet.org/event/nmed-brownfields-program-presentation-planning-and-redevelopment/
CATEGORIES:Webinar
ATTACH;FMTTYPE=image/png:https://www.nmmainstreet.org/WPBeta/wp-content/uploads/2024/03/NMEDlogomain.png
END:VEVENT
BEGIN:VEVENT
DTSTART;TZID=America/Denver:20260325T100000
DTEND;TZID=America/Denver:20260325T110000
DTSTAMP:20260423T070200
CREATED:20260319T185737Z
LAST-MODIFIED:20260319T185737Z
UID:16364-1774432800-1774436400@www.nmmainstreet.org
SUMMARY:Small Business Webinar: The Digital Tune-Up: Prepping Your Business for Online Growth
DESCRIPTION:In this webinar\, Main Street America will walk through an essential checklist designed to catch the critical details that often slip through the cracks.
URL:https://www.nmmainstreet.org/event/small-business-webinar-the-digital-tune-up-prepping-your-business-for-online-growth/
CATEGORIES:Webinar
ATTACH;FMTTYPE=image/png:https://www.nmmainstreet.org/WPBeta/wp-content/uploads/2026/03/Digital-Trainers-Workshop-3-10.png
END:VEVENT
BEGIN:VEVENT
DTSTART;TZID=America/Denver:20260324T160000
DTEND;TZID=America/Denver:20260324T190000
DTSTAMP:20260423T070200
CREATED:20260227T224811Z
LAST-MODIFIED:20260227T224811Z
UID:15907-1774368000-1774378800@www.nmmainstreet.org
SUMMARY:SCORE Community Partner and Business Resource Fair - ABQ
DESCRIPTION:Are you looking for tools\, resources\, and connections to help your business learn\, grow\, and sustain? Don’t miss this unique opportunity to meet multiple community partners and organizations that provide free or low-cost resources specifically for startups\, micro-businesses and small businesses in Albuquerque and surrounding cities.
URL:https://www.nmmainstreet.org/event/score-community-partner-and-business-resource-fair-abq/
CATEGORIES:Local Events
END:VEVENT
BEGIN:VEVENT
DTSTART;TZID=America/Denver:20260319T100000
DTEND;TZID=America/Denver:20260319T120000
DTSTAMP:20260423T070200
CREATED:20260306T172021Z
LAST-MODIFIED:20260306T172021Z
UID:16023-1773914400-1773921600@www.nmmainstreet.org
SUMMARY:Outdoor Recreation Infrastructure and Funding Training
DESCRIPTION:Learn about the NM Outdoor Recreation Division programs and funding to assist local governments with the planning\, development and improvement of outdoor space and infrastructure.  
URL:https://www.nmmainstreet.org/event/outdoor-recreation-infrastructure-and-funding-training/
CATEGORIES:Webinar
ATTACH;FMTTYPE=image/jpeg:https://www.nmmainstreet.org/WPBeta/wp-content/uploads/2026/03/NMORD-Social.jpg
END:VEVENT
BEGIN:VEVENT
DTSTART;TZID=America/Denver:20260307T000000
DTEND;TZID=America/Denver:20260307T235959
DTSTAMP:20260423T070200
CREATED:20260226T202751Z
LAST-MODIFIED:20260304T190611Z
UID:15881-1772841600-1772927999@www.nmmainstreet.org
SUMMARY:NM CreativeCon Carlsbad Cavern Theater
DESCRIPTION:NM CreativeCon is a statewide celebration of New Mexico’s creative community\, taking place from March through June 2026.
URL:https://www.nmmainstreet.org/event/nm-creativecon-carlsbad-cavern-theater/
CATEGORIES:Economic Development,Local Events
ATTACH;FMTTYPE=image/png:https://www.nmmainstreet.org/WPBeta/wp-content/uploads/2026/02/Schedule-Grey.png
END:VEVENT
BEGIN:VEVENT
DTSTART;TZID=America/Denver:20260218T000000
DTEND;TZID=America/Denver:20260220T235959
DTSTAMP:20260423T070200
CREATED:20250627T200554Z
LAST-MODIFIED:20260120T224507Z
UID:14546-1771372800-1771631999@www.nmmainstreet.org
SUMMARY:New Mexico MainStreet Conference - ABQ
DESCRIPTION:New Mexico MainStreet is hosting its annual conference at the National Hispanic Cultural Center (NHCC) in Albuquerque on Wednesday\, February 18 to Friday\, February 20\, 2026. The conference theme is “MainStreet: Hub to Heritage – Connecting Commerce\, Culture\, and Nature.” This special event will provide practical and actionable information to connect the state’s downtown centers to their surrounding cultural\, natural\, historic\, and tourist destinations.
URL:https://www.nmmainstreet.org/event/new-mexico-mainstreet-conference-abq/
CATEGORIES:Leadership Network Meeting
ATTACH;FMTTYPE=image/png:https://www.nmmainstreet.org/WPBeta/wp-content/uploads/2025/06/2026-conference-1-scaled.png
END:VEVENT
BEGIN:VEVENT
DTSTART;TZID=America/Denver:20260127T000000
DTEND;TZID=America/Denver:20260127T235959
DTSTAMP:20260423T070200
CREATED:20251223T225432Z
LAST-MODIFIED:20251223T225433Z
UID:15586-1769472000-1769558399@www.nmmainstreet.org
SUMMARY:2026 Hospitality & Tourism TRENDS Conference
DESCRIPTION:TRENDS is New Mexico’s signature annual gathering for tourism\, hospitality\, and destination marketing professionals. Each year\, leaders from across the state come together to explore industry shifts\, share practical insights\, and strengthen the partnerships that keep New Mexico’s visitor economy strong.
URL:https://www.nmmainstreet.org/event/2026-hospitality-tourism-trends-conference/
CATEGORIES:Local Events
ATTACH;FMTTYPE=image/png:https://www.nmmainstreet.org/WPBeta/wp-content/uploads/2025/12/EventPhotoFull_New-TRENDS-Logo.png
END:VEVENT
END:VCALENDAR