BEGIN:VCALENDAR
VERSION:2.0
PRODID:-//New Mexico MainStreet - ECPv6.15.20//NONSGML v1.0//EN
CALSCALE:GREGORIAN
METHOD:PUBLISH
X-WR-CALNAME:New Mexico MainStreet
X-ORIGINAL-URL:https://www.nmmainstreet.org
X-WR-CALDESC:Events for New Mexico MainStreet
REFRESH-INTERVAL;VALUE=DURATION:PT1H
X-Robots-Tag:noindex
X-PUBLISHED-TTL:PT1H
BEGIN:VTIMEZONE
TZID:America/Denver
BEGIN:DAYLIGHT
TZOFFSETFROM:-0700
TZOFFSETTO:-0600
TZNAME:MDT
DTSTART:20260308T090000
END:DAYLIGHT
BEGIN:STANDARD
TZOFFSETFROM:-0600
TZOFFSETTO:-0700
TZNAME:MST
DTSTART:20261101T080000
END:STANDARD
BEGIN:DAYLIGHT
TZOFFSETFROM:-0700
TZOFFSETTO:-0600
TZNAME:MDT
DTSTART:20270314T090000
END:DAYLIGHT
BEGIN:STANDARD
TZOFFSETFROM:-0600
TZOFFSETTO:-0700
TZNAME:MST
DTSTART:20271107T080000
END:STANDARD
BEGIN:DAYLIGHT
TZOFFSETFROM:-0700
TZOFFSETTO:-0600
TZNAME:MDT
DTSTART:20280312T090000
END:DAYLIGHT
BEGIN:STANDARD
TZOFFSETFROM:-0600
TZOFFSETTO:-0700
TZNAME:MST
DTSTART:20281105T080000
END:STANDARD
END:VTIMEZONE
BEGIN:VEVENT
DTSTART;TZID=America/Denver:20270503T000000
DTEND;TZID=America/Denver:20270505T235959
DTSTAMP:20260423T070201
CREATED:20260422T154148Z
LAST-MODIFIED:20260422T154148Z
UID:16505-1809302400-1809561599@www.nmmainstreet.org
SUMMARY:Main Street Now Conference: Detroit\, Michigan
DESCRIPTION:Mark your calendar for three days of learning and network-building at the 2027 Main Street Now Conference in Detroit\, Michigan! 
URL:https://www.nmmainstreet.org/event/main-street-now-conference-detroit-michigan/
CATEGORIES:National Conference
ATTACH;FMTTYPE=image/png:https://www.nmmainstreet.org/WPBeta/wp-content/uploads/2026/04/MSN27-SaveDate-WEBCARD-v1-800x600-1.png
END:VEVENT
END:VCALENDAR