BEGIN:VCALENDAR
VERSION:2.0
PRODID:-//New Mexico MainStreet - ECPv6.15.20//NONSGML v1.0//EN
CALSCALE:GREGORIAN
METHOD:PUBLISH
X-ORIGINAL-URL:https://www.nmmainstreet.org
X-WR-CALDESC:Events for New Mexico MainStreet
REFRESH-INTERVAL;VALUE=DURATION:PT1H
X-Robots-Tag:noindex
X-PUBLISHED-TTL:PT1H
BEGIN:VTIMEZONE
TZID:America/Denver
BEGIN:DAYLIGHT
TZOFFSETFROM:-0700
TZOFFSETTO:-0600
TZNAME:MDT
DTSTART:20250309T090000
END:DAYLIGHT
BEGIN:STANDARD
TZOFFSETFROM:-0600
TZOFFSETTO:-0700
TZNAME:MST
DTSTART:20251102T080000
END:STANDARD
BEGIN:DAYLIGHT
TZOFFSETFROM:-0700
TZOFFSETTO:-0600
TZNAME:MDT
DTSTART:20260308T090000
END:DAYLIGHT
BEGIN:STANDARD
TZOFFSETFROM:-0600
TZOFFSETTO:-0700
TZNAME:MST
DTSTART:20261101T080000
END:STANDARD
BEGIN:DAYLIGHT
TZOFFSETFROM:-0700
TZOFFSETTO:-0600
TZNAME:MDT
DTSTART:20270314T090000
END:DAYLIGHT
BEGIN:STANDARD
TZOFFSETFROM:-0600
TZOFFSETTO:-0700
TZNAME:MST
DTSTART:20271107T080000
END:STANDARD
END:VTIMEZONE
BEGIN:VEVENT
DTSTART;TZID=America/Denver:20260418T000000
DTEND;TZID=America/Denver:20260419T235959
DTSTAMP:20260423T084226
CREATED:20260303T233952Z
LAST-MODIFIED:20260303T233953Z
UID:15938-1776470400-1776643199@www.nmmainstreet.org
SUMMARY:Route 66: Roads & Rails Festival - ABQ
DESCRIPTION:Wheels Museum presents: Route 66 – Roads & Rails Festival\, April 18-19\, 2026\, at the Albuquerque Rail Yards! All wheels welcome: cars\, trains\, bikes\, & more! Join us for this free event with live music\, family fun zones\, local food truck & vendors\, talks\, exhibits\, and community meetups. Explore the city with trolley\, bike\, and walking tours.
URL:https://www.nmmainstreet.org/event/route-66-roads-rails-festival-abq/
CATEGORIES:Route 66
ATTACH;FMTTYPE=image/jpeg:https://www.nmmainstreet.org/WPBeta/wp-content/uploads/2026/03/613176579_1463259815602392_1199333787800582435_n.jpg
END:VEVENT
BEGIN:VEVENT
DTSTART;TZID=America/Denver:20260417T000000
DTEND;TZID=America/Denver:20260418T235959
DTSTAMP:20260423T084226
CREATED:20260318T152945Z
LAST-MODIFIED:20260318T152945Z
UID:16297-1776384000-1776556799@www.nmmainstreet.org
SUMMARY:NMDVS Annual Veterans Conference - Las Cruces
DESCRIPTION:The New Mexico Department of Veterans’ Services (NMDVS) will host its annual 2026 Veterans’ Conference April 17–18 at Hotel Encanto de Las Cruces\, 705 S. Telshor Blvd.\, Las Cruces\, NM 88011. The event brings together Veterans\, families\, service providers\, and advocates from across the state for two days of collaboration\, information sharing\, and connection.
URL:https://www.nmmainstreet.org/event/nmdvs-annual-veterans-conference-las-cruces/
CATEGORIES:Local Events
END:VEVENT
BEGIN:VEVENT
DTSTART;TZID=America/Denver:20260411T000000
DTEND;TZID=America/Denver:20260411T235959
DTSTAMP:20260423T084226
CREATED:20260226T203103Z
LAST-MODIFIED:20260407T200409Z
UID:15886-1775865600-1775951999@www.nmmainstreet.org
SUMMARY:NM CreativeCon Gallup El Morro Theater
DESCRIPTION:NM CreativeCon is a statewide celebration of New Mexico’s creative community\, taking place from March through June 2026.
URL:https://www.nmmainstreet.org/event/nm-creativecon-gallup-el-morro-theater/
CATEGORIES:Arts & Culture,Local Events
ATTACH;FMTTYPE=image/jpeg:https://www.nmmainstreet.org/WPBeta/wp-content/uploads/2026/02/658834414_17953429776114263_2742469924861741797_n.jpg
END:VEVENT
BEGIN:VEVENT
DTSTART;TZID=America/Denver:20260328T110000
DTEND;TZID=America/Denver:20260328T123000
DTSTAMP:20260423T084226
CREATED:20260303T232606Z
LAST-MODIFIED:20260304T215322Z
UID:15929-1774695600-1774701000@www.nmmainstreet.org
SUMMARY:Route 66 Centennial Speaker Series in ABQ\, March 28
DESCRIPTION:Monthly historical lecture series for Route 66 Centennial in 2026 in and near Albuquerque\, New Mexico\, USA. \n\n\n\nSponsored by Albuquerque Historical Society\, East Mountain Historical Society\, Historic Albuquerque\, Inc.\, Los Ranchos Historical Society. Support from City of Albuquerque\, City of Rio Rancho\, and Bernalillo County. \n\n\n\nAll events are free and open to the public. Lectures repeat throughout the locations. Follow this series on Facebook.
URL:https://www.nmmainstreet.org/event/route-66-centennial-speaker-series-north-fourth-street-albuquerques-original-route-66/
CATEGORIES:Route 66
ATTACH;FMTTYPE=image/png:https://www.nmmainstreet.org/WPBeta/wp-content/uploads/2026/03/RT66-Logo_CLR-1024x986-1.png
END:VEVENT
BEGIN:VEVENT
DTSTART;TZID=America/Denver:20260328T000000
DTEND;TZID=America/Denver:20260328T235959
DTSTAMP:20260423T084226
CREATED:20260226T202908Z
LAST-MODIFIED:20260305T204205Z
UID:15884-1774656000-1774742399@www.nmmainstreet.org
SUMMARY:NM CreativeCon Raton Shuler Theater
DESCRIPTION:NM CreativeCon is a statewide celebration of New Mexico’s creative community\, taking place from March through June 2026.
URL:https://www.nmmainstreet.org/event/nm-creativecon-raton-shuler-theater/
CATEGORIES:Arts & Culture,Local Events
ATTACH;FMTTYPE=image/png:https://www.nmmainstreet.org/WPBeta/wp-content/uploads/2026/02/Raton-V.2-2.png
END:VEVENT
BEGIN:VEVENT
DTSTART;TZID=America/Denver:20260324T160000
DTEND;TZID=America/Denver:20260324T190000
DTSTAMP:20260423T084226
CREATED:20260227T224811Z
LAST-MODIFIED:20260227T224811Z
UID:15907-1774368000-1774378800@www.nmmainstreet.org
SUMMARY:SCORE Community Partner and Business Resource Fair - ABQ
DESCRIPTION:Are you looking for tools\, resources\, and connections to help your business learn\, grow\, and sustain? Don’t miss this unique opportunity to meet multiple community partners and organizations that provide free or low-cost resources specifically for startups\, micro-businesses and small businesses in Albuquerque and surrounding cities.
URL:https://www.nmmainstreet.org/event/score-community-partner-and-business-resource-fair-abq/
CATEGORIES:Local Events
END:VEVENT
BEGIN:VEVENT
DTSTART;TZID=America/Denver:20260307T000000
DTEND;TZID=America/Denver:20260307T235959
DTSTAMP:20260423T084226
CREATED:20260226T202751Z
LAST-MODIFIED:20260304T190611Z
UID:15881-1772841600-1772927999@www.nmmainstreet.org
SUMMARY:NM CreativeCon Carlsbad Cavern Theater
DESCRIPTION:NM CreativeCon is a statewide celebration of New Mexico’s creative community\, taking place from March through June 2026.
URL:https://www.nmmainstreet.org/event/nm-creativecon-carlsbad-cavern-theater/
CATEGORIES:Economic Development,Local Events
ATTACH;FMTTYPE=image/png:https://www.nmmainstreet.org/WPBeta/wp-content/uploads/2026/02/Schedule-Grey.png
END:VEVENT
BEGIN:VEVENT
DTSTART;TZID=America/Denver:20260127T000000
DTEND;TZID=America/Denver:20260127T235959
DTSTAMP:20260423T084226
CREATED:20251223T225432Z
LAST-MODIFIED:20251223T225433Z
UID:15586-1769472000-1769558399@www.nmmainstreet.org
SUMMARY:2026 Hospitality & Tourism TRENDS Conference
DESCRIPTION:TRENDS is New Mexico’s signature annual gathering for tourism\, hospitality\, and destination marketing professionals. Each year\, leaders from across the state come together to explore industry shifts\, share practical insights\, and strengthen the partnerships that keep New Mexico’s visitor economy strong.
URL:https://www.nmmainstreet.org/event/2026-hospitality-tourism-trends-conference/
CATEGORIES:Local Events
ATTACH;FMTTYPE=image/png:https://www.nmmainstreet.org/WPBeta/wp-content/uploads/2025/12/EventPhotoFull_New-TRENDS-Logo.png
END:VEVENT
END:VCALENDAR