BEGIN:VCALENDAR
VERSION:2.0
PRODID:-//New Mexico MainStreet - ECPv6.15.20//NONSGML v1.0//EN
CALSCALE:GREGORIAN
METHOD:PUBLISH
X-ORIGINAL-URL:https://www.nmmainstreet.org
X-WR-CALDESC:Events for New Mexico MainStreet
REFRESH-INTERVAL;VALUE=DURATION:PT1H
X-Robots-Tag:noindex
X-PUBLISHED-TTL:PT1H
BEGIN:VTIMEZONE
TZID:America/Denver
BEGIN:DAYLIGHT
TZOFFSETFROM:-0700
TZOFFSETTO:-0600
TZNAME:MDT
DTSTART:20250309T090000
END:DAYLIGHT
BEGIN:STANDARD
TZOFFSETFROM:-0600
TZOFFSETTO:-0700
TZNAME:MST
DTSTART:20251102T080000
END:STANDARD
BEGIN:DAYLIGHT
TZOFFSETFROM:-0700
TZOFFSETTO:-0600
TZNAME:MDT
DTSTART:20260308T090000
END:DAYLIGHT
BEGIN:STANDARD
TZOFFSETFROM:-0600
TZOFFSETTO:-0700
TZNAME:MST
DTSTART:20261101T080000
END:STANDARD
BEGIN:DAYLIGHT
TZOFFSETFROM:-0700
TZOFFSETTO:-0600
TZNAME:MDT
DTSTART:20270314T090000
END:DAYLIGHT
BEGIN:STANDARD
TZOFFSETFROM:-0600
TZOFFSETTO:-0700
TZNAME:MST
DTSTART:20271107T080000
END:STANDARD
END:VTIMEZONE
BEGIN:VEVENT
DTSTART;TZID=America/Denver:20260307T000000
DTEND;TZID=America/Denver:20260307T235959
DTSTAMP:20260423T095506
CREATED:20260226T202751Z
LAST-MODIFIED:20260304T190611Z
UID:15881-1772841600-1772927999@www.nmmainstreet.org
SUMMARY:NM CreativeCon Carlsbad Cavern Theater
DESCRIPTION:NM CreativeCon is a statewide celebration of New Mexico’s creative community\, taking place from March through June 2026.
URL:https://www.nmmainstreet.org/event/nm-creativecon-carlsbad-cavern-theater/
CATEGORIES:Economic Development,Local Events
ATTACH;FMTTYPE=image/png:https://www.nmmainstreet.org/WPBeta/wp-content/uploads/2026/02/Schedule-Grey.png
END:VEVENT
END:VCALENDAR