BEGIN:VCALENDAR
VERSION:2.0
PRODID:-//New Mexico MainStreet - ECPv6.15.20//NONSGML v1.0//EN
CALSCALE:GREGORIAN
METHOD:PUBLISH
X-WR-CALNAME:New Mexico MainStreet
X-ORIGINAL-URL:https://www.nmmainstreet.org
X-WR-CALDESC:Events for New Mexico MainStreet
REFRESH-INTERVAL;VALUE=DURATION:PT1H
X-Robots-Tag:noindex
X-PUBLISHED-TTL:PT1H
BEGIN:VTIMEZONE
TZID:America/Denver
BEGIN:DAYLIGHT
TZOFFSETFROM:-0700
TZOFFSETTO:-0600
TZNAME:MDT
DTSTART:20250309T090000
END:DAYLIGHT
BEGIN:STANDARD
TZOFFSETFROM:-0600
TZOFFSETTO:-0700
TZNAME:MST
DTSTART:20251102T080000
END:STANDARD
BEGIN:DAYLIGHT
TZOFFSETFROM:-0700
TZOFFSETTO:-0600
TZNAME:MDT
DTSTART:20260308T090000
END:DAYLIGHT
BEGIN:STANDARD
TZOFFSETFROM:-0600
TZOFFSETTO:-0700
TZNAME:MST
DTSTART:20261101T080000
END:STANDARD
BEGIN:DAYLIGHT
TZOFFSETFROM:-0700
TZOFFSETTO:-0600
TZNAME:MDT
DTSTART:20270314T090000
END:DAYLIGHT
BEGIN:STANDARD
TZOFFSETFROM:-0600
TZOFFSETTO:-0700
TZNAME:MST
DTSTART:20271107T080000
END:STANDARD
END:VTIMEZONE
BEGIN:VEVENT
DTSTART;TZID=America/Denver:20260425T000000
DTEND;TZID=America/Denver:20260425T235959
DTSTAMP:20260423T070338
CREATED:20260226T203232Z
LAST-MODIFIED:20260422T153647Z
UID:15888-1777075200-1777161599@www.nmmainstreet.org
SUMMARY:NM CreativeCon Silver City WNMU Fine Arts Theater
DESCRIPTION:NM CreativeCon is a statewide celebration of New Mexico’s creative community\, taking place from March through June 2026.
URL:https://www.nmmainstreet.org/event/nm-creativecon-silver-city-wnmu-fine-arts-theater/
CATEGORIES:Arts & Culture,Local Events
ATTACH;FMTTYPE=image/jpeg:https://www.nmmainstreet.org/WPBeta/wp-content/uploads/2026/02/668721923_122216632214779185_7211445334668962908_n.jpg
END:VEVENT
BEGIN:VEVENT
DTSTART;TZID=America/Denver:20260530T000000
DTEND;TZID=America/Denver:20260530T235959
DTSTAMP:20260423T070338
CREATED:20260226T203340Z
LAST-MODIFIED:20260304T190540Z
UID:15890-1780099200-1780185599@www.nmmainstreet.org
SUMMARY:NM CreativeCon Pueblo of Pojoaque Buffalo Thunder Casino
DESCRIPTION:NM CreativeCon is a statewide celebration of New Mexico’s creative community\, taking place from March through June 2026.
URL:https://www.nmmainstreet.org/event/nm-creativecon-pueblo-of-pojoaque-buffalo-thunder-casino/
CATEGORIES:Arts & Culture,Local Events
ATTACH;FMTTYPE=image/png:https://www.nmmainstreet.org/WPBeta/wp-content/uploads/2026/02/Schedule-Grey.png
END:VEVENT
BEGIN:VEVENT
DTSTART;TZID=America/Denver:20260602T000000
DTEND;TZID=America/Denver:20260602T235959
DTSTAMP:20260423T070338
CREATED:20260304T190826Z
LAST-MODIFIED:20260304T190827Z
UID:15960-1780358400-1780444799@www.nmmainstreet.org
SUMMARY:Americans for the Arts(AFTA) Con 2026 - ABQ
DESCRIPTION:AFTACON 2026 from June 2-5 in Albuquerque\, New Mexico is where we gather to shape the future of arts and culture and organize for impact that extends far beyond four days in June. Your voice becomes part of coordinated national action.
URL:https://www.nmmainstreet.org/event/americans-for-the-artsafta-con-2026-abq/
CATEGORIES:Arts & Culture,Local Events
ATTACH;FMTTYPE=image/png:https://www.nmmainstreet.org/WPBeta/wp-content/uploads/2026/03/aftacon2026.png
END:VEVENT
BEGIN:VEVENT
DTSTART;TZID=America/Denver:20260606T000000
DTEND;TZID=America/Denver:20260606T235959
DTSTAMP:20260423T070338
CREATED:20260226T203509Z
LAST-MODIFIED:20260304T190532Z
UID:15892-1780704000-1780790399@www.nmmainstreet.org
SUMMARY:NM CreativeCon Albuquerque National Hispanic Cultural Center
DESCRIPTION:NM CreativeCon is a statewide celebration of New Mexico’s creative community\, taking place from March through June 2026.
URL:https://www.nmmainstreet.org/event/nm-creativecon-albuquerque-national-hispanic-cultural-center/
CATEGORIES:Arts & Culture,Local Events
ATTACH;FMTTYPE=image/png:https://www.nmmainstreet.org/WPBeta/wp-content/uploads/2026/02/Schedule-Grey.png
END:VEVENT
BEGIN:VEVENT
DTSTART;TZID=America/Denver:20260929T000000
DTEND;TZID=America/Denver:20261001T235959
DTSTAMP:20260423T070338
CREATED:20260226T211940Z
LAST-MODIFIED:20260304T190456Z
UID:15894-1790640000-1790899199@www.nmmainstreet.org
SUMMARY:CODA summit: Art\, Technology and Place
DESCRIPTION:Hosted by the New Mexico Department of Cultural Affairs and New Mexico Arts\, CODAsummit is the place where all of the players in the public art industry come together to meet and learn from one another\, to share insights and resources\, to conduct business\, and to figure out how we even talk about this new world.
URL:https://www.nmmainstreet.org/event/coda-summit-art-technology-and-place/
CATEGORIES:Arts & Culture,Local Events
END:VEVENT
END:VCALENDAR